BEGIN:VCALENDAR
VERSION:2.0
PRODID:-//WP EVENT Manager Ical//NONSGML Events//EN
CALSCALE:GREGORIAN
BEGIN:VTIMEZONE
TZID:Asia/Kolkata
BEGIN:STANDARD
DTSTART:19700101T000000
TZOFFSETFROM:+0530
TZOFFSETTO:+0530
END:STANDARD
END:VTIMEZONE
BEGIN:VEVENT
UID:69ea7ca4636ca@www.envoyair.com
DTSTAMP:20260423T201012Z
DTSTART;TZID=Asia/Kolkata:20260720T090000
DTEND;TZID=Asia/Kolkata:20260726T170000
LOCATION:Wittman Regional Airport
SUMMARY:EAA AirVenture Oshkosh 2026
DESCRIPTION:Exciting news for aviation enthusiasts! We&#8217;re thrilled to announce that Envoy Air recruiters will be attending Oshkosh this year, offering incredible opportunities for aspiring pilots and aviation professionals. Don&#8217;t miss this chance to connect directly with industry leaders, explore career options, and take your passion for aviation to new heights. Join us at Oshkosh and make your dreams of a career in the skies a reality!
END:VEVENT
END:VCALENDAR