BEGIN:VCALENDAR
VERSION:2.0
PRODID:-//WP EVENT Manager Ical//NONSGML Events//EN
CALSCALE:GREGORIAN
BEGIN:VTIMEZONE
TZID:Asia/Kolkata
BEGIN:STANDARD
DTSTART:19700101T000000
TZOFFSETFROM:+0530
TZOFFSETTO:+0530
END:STANDARD
END:VTIMEZONE
BEGIN:VEVENT
UID:69eaa99c99a83@www.envoyair.com
DTSTAMP:20260423T232204Z
DTSTART;TZID=Asia/Kolkata:20241123T100000
DTEND;TZID=Asia/Kolkata:20241123T150000
LOCATION:The Marquette Commons, 112 S. Third St., Marquette, MI
SUMMARY:Marquette Thanksgiving Market
DESCRIPTION:Join us at the Marquette Thanksgiving Market for a wonderful day of community and local shopping! This event is not only a fantastic opportunity to discover unique handmade goods from our talented local vendors and artisans, but it’s also a chance to meet the Envoy Maintenance team. We’re excited to engage with you about potential career opportunities within our organization. Whether you&#8217;re looking to support local businesses or explore new job possibilities, we look forward to connecting with you and celebrating the spirit of Thanksgiving together!
END:VEVENT
END:VCALENDAR