BEGIN:VCALENDAR
VERSION:2.0
PRODID:-//WP EVENT Manager Ical//NONSGML Events//EN
CALSCALE:GREGORIAN
BEGIN:VTIMEZONE
TZID:Asia/Kolkata
BEGIN:STANDARD
DTSTART:19700101T000000
TZOFFSETFROM:+0530
TZOFFSETTO:+0530
END:STANDARD
END:VTIMEZONE
BEGIN:VEVENT
UID:69ea6360e044b@www.envoyair.com
DTSTAMP:20260423T182224Z
DTSTART;TZID=Asia/Kolkata:20250408T090000
DTEND;TZID=Asia/Kolkata:20250410T170000
LOCATION:Georgia World Congress Center
SUMMARY:MRO Americas
DESCRIPTION:Calling all Aviation Maintenance Technicians! Don&#8217;t miss the chance to join Envoy Air at MRO Americas, the largest event for aviation maintenance professionals. It’s the perfect opportunity to expand your knowledge, connect with industry leaders, and explore cutting-edge technologies shaping the future of aviation maintenance. Whether you&#8217;re looking to advance your career or stay ahead of the latest trends, MRO Americas offers invaluable insights and networking opportunities you won’t want to miss. See you there!
END:VEVENT
END:VCALENDAR