BEGIN:VCALENDAR
VERSION:2.0
PRODID:-//WP EVENT Manager Ical//NONSGML Events//EN
CALSCALE:GREGORIAN
BEGIN:VTIMEZONE
TZID:Asia/Kolkata
BEGIN:STANDARD
DTSTART:19700101T000000
TZOFFSETFROM:+0530
TZOFFSETTO:+0530
END:STANDARD
END:VTIMEZONE
BEGIN:VEVENT
UID:69ea7c7b2739e@www.envoyair.com
DTSTAMP:20260423T200931Z
DTSTART;TZID=Asia/Kolkata:20250327T080000
DTEND;TZID=Asia/Kolkata:20250329T170000
LOCATION:Gaylord Rockies Resort &amp; Conference Center
SUMMARY:WAI 2025
DESCRIPTION:We invite you to join us at the 2025 Women in Aviation International Conference to meet our airline and explore exciting career opportunities. Whether you&#8217;re looking to network, learn more about our inclusive culture, or take the next step in your aviation career, we’d love to connect with you. Stop by our booth to chat with our team and discover how you can be part of our team!
END:VEVENT
END:VCALENDAR