BEGIN:VCALENDAR
VERSION:2.0
PRODID:-//WP EVENT Manager Ical//NONSGML Events//EN
CALSCALE:GREGORIAN
BEGIN:VTIMEZONE
TZID:Asia/Kolkata
BEGIN:STANDARD
DTSTART:19700101T000000
TZOFFSETFROM:+0530
TZOFFSETTO:+0530
END:STANDARD
END:VTIMEZONE
BEGIN:VEVENT
UID:69ea7c292041c@www.envoyair.com
DTSTAMP:20260423T200809Z
DTSTART;TZID=Asia/Kolkata:20250213T080000
DTEND;TZID=Asia/Kolkata:20250216T170000
LOCATION:Palm Springs Convention Center
SUMMARY:NGPA Industry Expo
DESCRIPTION:Join us at the NGPA Industry Expo to connect with our airline and learn about the exciting opportunities we offer for aviation professionals. Whether you&#8217;re looking to advance your career, explore new roles, or simply network with industry leaders, we’d love to meet you. Visit us at our booth to discuss how you can be a part of our team and contribute to a diverse and inclusive aviation community!
END:VEVENT
END:VCALENDAR