BEGIN:VCALENDAR
VERSION:2.0
PRODID:-//WP EVENT Manager Ical//NONSGML Events//EN
CALSCALE:GREGORIAN
BEGIN:VTIMEZONE
TZID:Asia/Kolkata
BEGIN:STANDARD
DTSTART:19700101T000000
TZOFFSETFROM:+0530
TZOFFSETTO:+0530
END:STANDARD
END:VTIMEZONE
BEGIN:VEVENT
UID:69ea7c224f1ae@www.envoyair.com
DTSTAMP:20260423T200802Z
DTSTART;TZID=Asia/Kolkata:20240603T120000
DTEND;TZID=Asia/Kolkata:20240605T160000
LOCATION:Westgate Las Vegas Resort &amp; Casino 3000 Paradise Road Las Vegas, NV
SUMMARY:PAPA EXPO 2024
DESCRIPTION:PAPA Expo is coming back! Get ready to experience the ultimate celebration of Asian culture and empowerment for Asian-Americans in the aviation industry! Our two-day flagship event features a career fair, cultural activities, performances, guest speakers, and so much more.   And the excitement doesn&#8217;t stop there! In 2023, the second PAPA Expo shattered the record set by our inaugural national conference in 2022. Over 1,000 aviation professionals flocked to our two-day event to engage with recruiters from companies across the industry. We&#8217;re dedicated to continuously improving our exhibit experience and providing even more programming to help you soar to new heights!&nbsp;
END:VEVENT
END:VCALENDAR