BEGIN:VCALENDAR
VERSION:2.0
PRODID:-//WP EVENT Manager Ical//NONSGML Events//EN
CALSCALE:GREGORIAN
BEGIN:VTIMEZONE
TZID:Asia/Kolkata
BEGIN:STANDARD
DTSTART:19700101T000000
TZOFFSETFROM:+0530
TZOFFSETTO:+0530
END:STANDARD
END:VTIMEZONE
BEGIN:VEVENT
UID:69ea7c51e03b4@www.envoyair.com
DTSTAMP:20260423T200849Z
DTSTART;TZID=Asia/Kolkata:20250602T140000
DTEND;TZID=Asia/Kolkata:20250604T160000
LOCATION:Westgate Las Vegas Resort &amp; Casino 3000 Paradise Road Las Vegas, NV 89109
SUMMARY:PAPA Expo Professional Asian Pilot Association
DESCRIPTION:Join Envoy Air at the PAPA (Professional Asian Pilot Association) Expo – June 2–4, Westgate Las VegasEnvoy Air is proud to be a Silver Sponsor at this year’s PAPA Expo! Connect with Envoy and other top carriers for three days of networking, career opportunities, and professional development. Whether you&#8217;re a seasoned aviator or just starting your journey, this is your chance to speak directly with airline recruiters, explore career paths, and learn how Envoy can help you take flight.✈️ Meet with airline recruiters🌐 Network with aviation professionals🚀 Discover hiring pathways and benefitsDon’t miss this opportunity to elevate your aviation career in the heart of Las Vegas!
END:VEVENT
END:VCALENDAR