BEGIN:VCALENDAR
VERSION:2.0
PRODID:-//WP EVENT Manager Ical//NONSGML Events//EN
CALSCALE:GREGORIAN
BEGIN:VTIMEZONE
TZID:Asia/Kolkata
BEGIN:STANDARD
DTSTART:19700101T000000
TZOFFSETFROM:+0530
TZOFFSETTO:+0530
END:STANDARD
END:VTIMEZONE
BEGIN:VEVENT
UID:69ea7c8662841@www.envoyair.com
DTSTAMP:20260423T200942Z
DTSTART;TZID=Asia/Kolkata:20250305T080000
DTEND;TZID=Asia/Kolkata:20250305T170000
LOCATION:TSTC Waco
SUMMARY:Texas State Technical College Career Fair- Aircraft Mechanics
DESCRIPTION:Please join our Air Operations team at TSTC&#8217;s Spring career fair and learn about opportunities as an Aircraft Mechanic and receive free swag!
END:VEVENT
END:VCALENDAR